BEGIN:VCALENDAR
VERSION:2.0
PRODID:icalendar-ruby
CALSCALE:GREGORIAN
METHOD:PUBLISH
BEGIN:VEVENT
DTSTAMP:20260420T141816Z
UID:38-1471986@kettleriverchurchcoop.org
DTSTART:20260416T223000Z
DTEND:20260416T233000Z
CLASS:PUBLIC
CREATED:20260404T164131
DESCRIPTION:
LAST-MODIFIED:20260404T164131
LOCATION:Emmanuel Lutheran Church
SUMMARY:Emmanuel Council Meeting
URL;VALUE=URI:https://www.kettleriverchurchcoop.org/events/emmanuel-council
 -meeting/2026-04-16
ATTACH;FILENAME=download-%282%29.jpg;FMTTYPE=image/jpeg:https://dq5pwpg1q8r
 u0.cloudfront.net/2025/03/09/03/51/46/5c091e2d-b7b9-4830-a0eb-4a965c5a4a58
 /download-%25282%2529.jpg
END:VEVENT
END:VCALENDAR
