BEGIN:VCALENDAR
VERSION:2.0
PRODID:icalendar-ruby
CALSCALE:GREGORIAN
METHOD:PUBLISH
BEGIN:VEVENT
DTSTAMP:20260422T103232Z
UID:42-1472008@kettleriverchurchcoop.org
DTSTART:20260421T213000Z
DTEND:20260421T230000Z
CLASS:PUBLIC
CREATED:20260404T164205
DESCRIPTION:
LAST-MODIFIED:20260404T164205
LOCATION:John Wright Building: 130 Oriole St. E\, Sandstone MN 55072
SUMMARY:Everyone's Table Community Meal
URL;VALUE=URI:https://www.kettleriverchurchcoop.org/events/everyones-table-
 community-meal/2026-04-21
ATTACH;FILENAME=Hgxf.jpg;FMTTYPE=image/jpeg:https://dq5pwpg1q8ru0.cloudfron
 t.net/2025/03/09/04/01/39/c3d04898-6a3b-4d97-80ef-4492405ddd91/Hgxf.jpg
END:VEVENT
END:VCALENDAR
