BEGIN:VCALENDAR
VERSION:2.0
PRODID:icalendar-ruby
CALSCALE:GREGORIAN
METHOD:PUBLISH
BEGIN:VEVENT
DTSTAMP:20260420T131125Z
UID:173-1446584@kettleriverchurchcoop.org
DTSTART:20260425T000000Z
DTEND:20260426T190000Z
CLASS:PUBLIC
CREATED:20260328T211520
DESCRIPTION:https://nemnsynod.org/2026-synod-assembly/
LAST-MODIFIED:20260328T211520
LOCATION:Breezy Point Resort
SUMMARY:NEMN Synod Assembly
URL;VALUE=URI:https://www.kettleriverchurchcoop.org/events/nemn-synod-assem
 bly/2026-04-24
ATTACH;FILENAME=SA26-logo-A-New-Creation.png;FMTTYPE=image/png:https://dq5p
 wpg1q8ru0.cloudfront.net/2026/03/29/02/15/20/7d1e2953-b7a5-418e-bd4d-448d5
 9c01e0b/SA26-logo-A-New-Creation.png
END:VEVENT
END:VCALENDAR
