BEGIN:VCALENDAR
VERSION:2.0
PRODID:icalendar-ruby
CALSCALE:GREGORIAN
METHOD:PUBLISH
BEGIN:VEVENT
DTSTAMP:20260420T143338Z
UID:94-1446583@kettleriverchurchcoop.org
DTSTART:20260421T143000Z
DTEND:20260421T153000Z
CLASS:PUBLIC
CREATED:20260328T211130
DESCRIPTION:All are welcome to attend.
LAST-MODIFIED:20260328T211130
LOCATION:Oak Lake Lutheran Church
SUMMARY:Oak Lake WELCA
URL;VALUE=URI:https://www.kettleriverchurchcoop.org/events/oak-lake-welca/2
 026-04-21
ATTACH;FILENAME=m9KW.jpg;FMTTYPE=image/jpeg:https://dq5pwpg1q8ru0.cloudfron
 t.net/2025/08/02/18/58/24/6c8b2fad-0185-4ea8-bc5c-99415b166f3f/m9KW.jpg
END:VEVENT
END:VCALENDAR
