BEGIN:VCALENDAR
VERSION:2.0
PRODID:icalendar-ruby
CALSCALE:GREGORIAN
METHOD:PUBLISH
BEGIN:VEVENT
DTSTAMP:20260420T130542Z
UID:70-1472121@kettleriverchurchcoop.org
DTSTART:20260423T190000Z
DTEND:20260423T230000Z
CLASS:PUBLIC
CREATED:20260404T165824
DESCRIPTION:All proceeds support the missions of the Bethany Beacons
LAST-MODIFIED:20260404T165824
LOCATION:Bethany Lutheran Church
SUMMARY:Rummage Sale
URL;VALUE=URI:https://www.kettleriverchurchcoop.org/events/rummage-sale/202
 6-04-23
ATTACH;FILENAME=rummage-bake-sale.png;FMTTYPE=image/png:https://dq5pwpg1q8r
 u0.cloudfront.net/2025/04/13/21/47/40/0394ef58-ca91-481f-9b7c-e2ae575638d3
 /rummage-bake-sale.png
END:VEVENT
END:VCALENDAR
