BEGIN:VCALENDAR
VERSION:2.0
PRODID:icalendar-ruby
CALSCALE:GREGORIAN
METHOD:PUBLISH
BEGIN:VEVENT
DTSTAMP:20260424T134252Z
UID:25-1472033@kettleriverchurchcoop.org
DTSTART:20260427T183000Z
DTEND:20260427T193000Z
CLASS:PUBLIC
CREATED:20260404T165219
DESCRIPTION:Villa Court address: 1220 Villa Court Dr Cromwell\, MN\, United
  States\, Minnesota 55726
LAST-MODIFIED:20260404T165219
LOCATION:Villa Court - Cromwell
SUMMARY:Worship Service at the Villa
URL;VALUE=URI:https://www.kettleriverchurchcoop.org/events/worship-service-
 at-the-villa/2026-04-27
END:VEVENT
END:VCALENDAR
